BEGIN:VCALENDAR
VERSION:2.0
PRODID:-//Metastatic Breast Cancer Alliance - ECPv6.11.2.1//NONSGML v1.0//EN
CALSCALE:GREGORIAN
METHOD:PUBLISH
X-ORIGINAL-URL:https://www.mbcalliance.org
X-WR-CALDESC:Events for Metastatic Breast Cancer Alliance
REFRESH-INTERVAL;VALUE=DURATION:PT1H
X-Robots-Tag:noindex
X-PUBLISHED-TTL:PT1H
BEGIN:VTIMEZONE
TZID:America/New_York
BEGIN:DAYLIGHT
TZOFFSETFROM:-0500
TZOFFSETTO:-0400
TZNAME:EDT
DTSTART:20220313T070000
END:DAYLIGHT
BEGIN:STANDARD
TZOFFSETFROM:-0400
TZOFFSETTO:-0500
TZNAME:EST
DTSTART:20221106T060000
END:STANDARD
END:VTIMEZONE
BEGIN:VEVENT
DTSTART;TZID=America/New_York:20220616T093000
DTEND;TZID=America/New_York:20220616T120000
DTSTAMP:20260421T044322
CREATED:20220502T175313Z
LAST-MODIFIED:20220502T175318Z
UID:10000673-1655371800-1655380800@www.mbcalliance.org
SUMMARY:Life Support: Educational Panel Discussion on Clinical Trials for MBC/How Patients with Health and Racial Disparities Can Gain Access and Dispelling the Myths
DESCRIPTION:Infinite Strength is hosting the first in its Life Support Panel Discussion Series! This panel will explore the reasons why those with health and racial disparities mistrust clinical trials\, talk about the latest happening in MBC Clinical Trials and how this patient population can gain access. \nThis will be an in person event and will also be livestreamed. \nPanel Members Include: \nDr. Maryam Lustberg\, Chief of Breast Medical Oncology\, Yale Cancer Center \nDr. Stephanie Graff\, Director of Breast Oncology at Lifespan Cancer Institute \nDr. Neal Fischbach\, Assistant Medical Director Clinical Trials Office\, Yale \nShelia McGlown\, Patient Advocate and Co-Host of Our MBC Life \n  \n  \n 
URL:https://www.mbcalliance.org/event/life-support-educational-panel-discussion-on-clinical-trials-for-mbc-how-patients-with-health-and-racial-disparities-can-gain-access-and-dispelling-the-myths/
LOCATION:Yale West Campus Conference Center\, 100 West Campus Drive\, Milford\, CT\, 06443\, United States
CATEGORIES:LIVE STREAM,ROUNDTABLE,WEBINARS
ATTACH;FMTTYPE=image/jpeg:https://www.mbcalliance.org/wp-content/uploads/Life-Support-Panel-Graphic-1.jpg
ORGANIZER;CN="Infinite Strength":MAILTO:roberta@infinitestrength.org
END:VEVENT
END:VCALENDAR