BEGIN:VCALENDAR
VERSION:2.0
PRODID:-//Metastatic Breast Cancer Alliance - ECPv6.11.2.1//NONSGML v1.0//EN
CALSCALE:GREGORIAN
METHOD:PUBLISH
X-WR-CALNAME:Metastatic Breast Cancer Alliance
X-ORIGINAL-URL:https://www.mbcalliance.org
X-WR-CALDESC:Events for Metastatic Breast Cancer Alliance
REFRESH-INTERVAL;VALUE=DURATION:PT1H
X-Robots-Tag:noindex
X-PUBLISHED-TTL:PT1H
BEGIN:VTIMEZONE
TZID:America/Vancouver
BEGIN:DAYLIGHT
TZOFFSETFROM:-0800
TZOFFSETTO:-0700
TZNAME:PDT
DTSTART:20240310T100000
END:DAYLIGHT
BEGIN:STANDARD
TZOFFSETFROM:-0700
TZOFFSETTO:-0800
TZNAME:PST
DTSTART:20241103T090000
END:STANDARD
END:VTIMEZONE
BEGIN:VEVENT
DTSTART;TZID=America/Vancouver:20240504T083000
DTEND;TZID=America/Vancouver:20240504T153000
DTSTAMP:20260422T052813
CREATED:20240328T184338Z
LAST-MODIFIED:20240328T184552Z
UID:10001037-1714811400-1714836600@www.mbcalliance.org
SUMMARY:Susan G. Komen Metastatic Breast Cancer Impact Series – Northwest Regional Conference [Seattle]
DESCRIPTION:This event will focus on treating the whole person and will provide information and resources on LIVING with MBC. We will update the agenda as speakers are confirmed and look forward to seeing you there. \nPlease note: there is limited space available for this conference so please ‘register’ to save your seat\, today. \nRegister here!
URL:https://www.mbcalliance.org/event/susan-g-komen-metastatic-breast-cancer-impact-series-northwest-regional-conference-seattle/
LOCATION:Women’s University Club of Seattle\, 1105 Sixth Ave.\, Seattle\, WA\, 98101\, United States
ATTACH;FMTTYPE=image/png:https://www.mbcalliance.org/wp-content/uploads/SGK-2CBlack-7.png
END:VEVENT
END:VCALENDAR