BEGIN:VCALENDAR
VERSION:2.0
PRODID:-//Metastatic Breast Cancer Alliance - ECPv6.11.2.1//NONSGML v1.0//EN
CALSCALE:GREGORIAN
METHOD:PUBLISH
X-WR-CALNAME:Metastatic Breast Cancer Alliance
X-ORIGINAL-URL:https://www.mbcalliance.org
X-WR-CALDESC:Events for Metastatic Breast Cancer Alliance
REFRESH-INTERVAL;VALUE=DURATION:PT1H
X-Robots-Tag:noindex
X-PUBLISHED-TTL:PT1H
BEGIN:VTIMEZONE
TZID:Europe/Madrid
BEGIN:DAYLIGHT
TZOFFSETFROM:+0100
TZOFFSETTO:+0200
TZNAME:CEST
DTSTART:20220327T010000
END:DAYLIGHT
BEGIN:STANDARD
TZOFFSETFROM:+0200
TZOFFSETTO:+0100
TZNAME:CET
DTSTART:20221030T010000
END:STANDARD
END:VTIMEZONE
BEGIN:VEVENT
DTSTART;TZID=Europe/Madrid:20221116T080000
DTEND;TZID=Europe/Madrid:20221118T170000
DTSTAMP:20260421T093734
CREATED:20220624T122837Z
LAST-MODIFIED:20220810T202738Z
UID:10000845-1668585600-1668790800@www.mbcalliance.org
SUMMARY:ABC Global Alliance | European Breast Cancer Conference
DESCRIPTION:An outstanding EBCC-13 programme awaits! The EBCC-13 scientific committee\, together with the local organising committee\, has designed a comprehensive\, interactive and educational programme to cover key issues in multidisciplinary breast cancer care. All sessions will be available for onsite participants\, and the majority of the sessions will also be accessible to online participants.
URL:https://www.mbcalliance.org/event/european-breast-cancer-conference/
LOCATION:Hybrid / Madrid\, Spain\, Spain
ATTACH;FMTTYPE=image/png:https://www.mbcalliance.org/wp-content/uploads/EBCCC-eaeaea.png
END:VEVENT
END:VCALENDAR