BEGIN:VCALENDAR
VERSION:2.0
PRODID:-//Metastatic Breast Cancer Alliance - ECPv6.11.2.1//NONSGML v1.0//EN
CALSCALE:GREGORIAN
METHOD:PUBLISH
X-ORIGINAL-URL:https://www.mbcalliance.org
X-WR-CALDESC:Events for Metastatic Breast Cancer Alliance
REFRESH-INTERVAL;VALUE=DURATION:PT1H
X-Robots-Tag:noindex
X-PUBLISHED-TTL:PT1H
BEGIN:VTIMEZONE
TZID:America/New_York
BEGIN:DAYLIGHT
TZOFFSETFROM:-0500
TZOFFSETTO:-0400
TZNAME:EDT
DTSTART:20230312T070000
END:DAYLIGHT
BEGIN:STANDARD
TZOFFSETFROM:-0400
TZOFFSETTO:-0500
TZNAME:EST
DTSTART:20231105T060000
END:STANDARD
END:VTIMEZONE
BEGIN:VEVENT
DTSTART;TZID=America/New_York:20231104T090000
DTEND;TZID=America/New_York:20231104T160000
DTSTAMP:20260425T064153
CREATED:20231019T143353Z
LAST-MODIFIED:20231019T143456Z
UID:10000969-1699088400-1699113600@www.mbcalliance.org
SUMMARY:2023 Susan G. Komen Metastatic Breast Cancer Impact Series – Regional Conference [Philadelphia]
DESCRIPTION:This in-person event will focus on treating the whole person and will provide information and resources on living with MBC. We will update the agenda as speakers are confirmed and look forward to seeing you there. \nRegister here!
URL:https://www.mbcalliance.org/event/2023-susan-g-komen-metastatic-breast-cancer-impact-series-regional-conference-philadelphia/
LOCATION:CytoPHL\, 2929 Arch Street\, Philadelphia\, PA\, 19104\, United States
ATTACH;FMTTYPE=image/png:https://www.mbcalliance.org/wp-content/uploads/komen-2-2.png
END:VEVENT
END:VCALENDAR