BEGIN:VCALENDAR
VERSION:2.0
PRODID:-//Metastatic Breast Cancer Alliance - ECPv6.11.2.1//NONSGML v1.0//EN
CALSCALE:GREGORIAN
METHOD:PUBLISH
X-ORIGINAL-URL:https://www.mbcalliance.org
X-WR-CALDESC:Events for Metastatic Breast Cancer Alliance
REFRESH-INTERVAL;VALUE=DURATION:PT1H
X-Robots-Tag:noindex
X-PUBLISHED-TTL:PT1H
BEGIN:VTIMEZONE
TZID:America/New_York
BEGIN:DAYLIGHT
TZOFFSETFROM:-0500
TZOFFSETTO:-0400
TZNAME:EDT
DTSTART:20250309T070000
END:DAYLIGHT
BEGIN:STANDARD
TZOFFSETFROM:-0400
TZOFFSETTO:-0500
TZNAME:EST
DTSTART:20251102T060000
END:STANDARD
END:VTIMEZONE
BEGIN:VEVENT
DTSTART;VALUE=DATE:20250321
DTEND;VALUE=DATE:20250324
DTSTAMP:20260421T045738
CREATED:20250109T200054Z
LAST-MODIFIED:20250109T200517Z
UID:10001081-1742515200-1742774399@www.mbcalliance.org
SUMMARY:YSC Summit
DESCRIPTION:Join us in HOT-lanta for a weekend of community\, connection and FUN!\nWelcome to the most fun you’ll have at a cancer conference. Ever. \nMeet your new breasties at interactive networking events and playful\, low-key activities. This vibrant community supports\, empowers and uplifts\, so you walk away feeling like you’ve been with lifelong friends. \nAt the YSC Summit\, every presenter is handpicked for their expertise and dedication to the young breast cancer experience. \nSummit workshops help you build personalized survivorship from the inside out. Surround yourself with young survivors\, thrivers and co-survivors\, all creating their unique life after a cancer diagnosis with help from thought leaders in the medical\, research and wellness spaces. \n 
URL:https://www.mbcalliance.org/event/ysc-summit/
LOCATION:Atlanta\, GA\, Atlanta\, Georgia
CATEGORIES:CONFERENCES
ATTACH;FMTTYPE=image/png:https://www.mbcalliance.org/wp-content/uploads/ysc-logo2.png
END:VEVENT
END:VCALENDAR