BEGIN:VCALENDAR
VERSION:2.0
PRODID:-//Metastatic Breast Cancer Alliance - ECPv6.11.2.1//NONSGML v1.0//EN
CALSCALE:GREGORIAN
METHOD:PUBLISH
X-ORIGINAL-URL:https://www.mbcalliance.org
X-WR-CALDESC:Events for Metastatic Breast Cancer Alliance
REFRESH-INTERVAL;VALUE=DURATION:PT1H
X-Robots-Tag:noindex
X-PUBLISHED-TTL:PT1H
BEGIN:VTIMEZONE
TZID:America/New_York
BEGIN:DAYLIGHT
TZOFFSETFROM:-0500
TZOFFSETTO:-0400
TZNAME:EDT
DTSTART:20240310T070000
END:DAYLIGHT
BEGIN:STANDARD
TZOFFSETFROM:-0400
TZOFFSETTO:-0500
TZNAME:EST
DTSTART:20241103T060000
END:STANDARD
BEGIN:DAYLIGHT
TZOFFSETFROM:-0500
TZOFFSETTO:-0400
TZNAME:EDT
DTSTART:20250309T070000
END:DAYLIGHT
BEGIN:STANDARD
TZOFFSETFROM:-0400
TZOFFSETTO:-0500
TZNAME:EST
DTSTART:20251102T060000
END:STANDARD
END:VTIMEZONE
BEGIN:VEVENT
DTSTART;TZID=America/New_York:20251022T170000
DTEND;TZID=America/New_York:20251022T180000
DTSTAMP:20260423T054132
CREATED:20251007T133838Z
LAST-MODIFIED:20251007T134525Z
UID:10001205-1761152400-1761156000@www.mbcalliance.org
SUMMARY:Move With Strength: Enhancing Mobility with Metastatic Breast Cancer
DESCRIPTION:Virtual Hangout | Unite For HER \nJoin Rita Padhiar\, DPT\, CLT\, ReVital Certified Therapist to learn how different exercises in strength can help to improve and prolong mobility with a metastatic breast cancer diagnosis.
URL:https://www.mbcalliance.org/event/move-with-strength-enhancing-mobility-with-metastatic-breast-cancer/
LOCATION:VIRTUAL
CATEGORIES:ZOOM SUPPORT GROUPS
ATTACH;FMTTYPE=image/png:https://www.mbcalliance.org/wp-content/uploads/uniteforher.png
END:VEVENT
BEGIN:VEVENT
DTSTART;TZID=America/New_York:20240611T170000
DTEND;TZID=America/New_York:20240611T180000
DTSTAMP:20260423T054132
CREATED:20240607T191609Z
LAST-MODIFIED:20240607T192552Z
UID:10001050-1718125200-1718128800@www.mbcalliance.org
SUMMARY:Webinar | Palliative Care: What It Is And What It Is Not
DESCRIPTION:Register now for this webinar and learn more about what palliative care is (and isn’t) in this enlightening talk with Cal Cates\, Executive Director of Healwell. This event will be co-hosted by Sue Weldon (CEO & Founder of Alliance nonprofit organization member Unite for HER) and Barbara Bigelow (Patient/Advocate member of the Alliance.) \nREGISTER HERE!
URL:https://www.mbcalliance.org/event/webinar-palliative-care-what-it-is-and-what-it-is-not-2/
LOCATION:Zoom
ATTACH;FMTTYPE=image/png:https://www.mbcalliance.org/wp-content/uploads/mbca-logo-1.png
END:VEVENT
BEGIN:VEVENT
DTSTART;TZID=America/New_York:20240111T180000
DTEND;TZID=America/New_York:20240111T190000
DTSTAMP:20260423T054132
CREATED:20240109T221756Z
LAST-MODIFIED:20240109T222402Z
UID:10000768-1704996000-1704999600@www.mbcalliance.org
SUMMARY:HER Speaker Series: SABCS Poster Review
DESCRIPTION:SABCS Poster Review\nwith Dr. Monique Gary\, Sue Weldon\,\nand Erin Pellegrin\, RD \nclick HERE to register
URL:https://www.mbcalliance.org/event/her-speaker-series-sabcs-poster-review/
LOCATION:VIA ZOOM
ATTACH;FMTTYPE=image/png:https://www.mbcalliance.org/wp-content/uploads/unite-for-her.png
END:VEVENT
END:VCALENDAR