BEGIN:VCALENDAR
VERSION:2.0
PRODID:-//Metastatic Breast Cancer Alliance - ECPv6.11.2.1//NONSGML v1.0//EN
CALSCALE:GREGORIAN
METHOD:PUBLISH
X-WR-CALNAME:Metastatic Breast Cancer Alliance
X-ORIGINAL-URL:https://www.mbcalliance.org
X-WR-CALDESC:Events for Metastatic Breast Cancer Alliance
REFRESH-INTERVAL;VALUE=DURATION:PT1H
X-Robots-Tag:noindex
X-PUBLISHED-TTL:PT1H
BEGIN:VTIMEZONE
TZID:America/New_York
BEGIN:DAYLIGHT
TZOFFSETFROM:-0500
TZOFFSETTO:-0400
TZNAME:EDT
DTSTART:20230312T070000
END:DAYLIGHT
BEGIN:STANDARD
TZOFFSETFROM:-0400
TZOFFSETTO:-0500
TZNAME:EST
DTSTART:20231105T060000
END:STANDARD
END:VTIMEZONE
BEGIN:VEVENT
DTSTART;TZID=America/New_York:20230609T120000
DTEND;TZID=America/New_York:20230609T130000
DTSTAMP:20260422T101244
CREATED:20230609T131040Z
LAST-MODIFIED:20230609T131040Z
UID:10000732-1686312000-1686315600@www.mbcalliance.org
SUMMARY:B-FRESH (Food Restores\, Energizes and Sustains Health)
DESCRIPTION:B–FRESH™ is an innovative way for Black and Brown women and their families to enhance and stay healthy throughout a breast cancer journey and beyond.
URL:https://www.mbcalliance.org/event/b-fresh-food-restores-energizes-and-sustains-health/
LOCATION:Zoom
ATTACH;FMTTYPE=image/png:https://www.mbcalliance.org/wp-content/uploads/bfresh-event-header-2.png
ORGANIZER;CN="Touch4Life":MAILTO:lcrandon@touch4life.org
END:VEVENT
BEGIN:VEVENT
DTSTART;TZID=America/New_York:20230325T110000
DTEND;TZID=America/New_York:20230325T123000
DTSTAMP:20260422T101244
CREATED:20230323T175848Z
LAST-MODIFIED:20230323T193220Z
UID:10000951-1679742000-1679747400@www.mbcalliance.org
SUMMARY:Sex\, Menopause and Breast Cancer
DESCRIPTION:We hope you’ll join us for Soul-filling Our Sisters (SOS)™ Saturdays this month for some real talk about sex!\n\nWe’ll discuss navigating sexual health after menopause or during a breast cancer journey and teach you pelvic floor strengthening exercises. \nWe understand that sexual health can be a sensitive topic\, especially after menopause or breast cancer\, but we’re here to support you and help you through this phase of your life. \nDon’t let sexual health concerns prevent you from living your best life. \nTo join us for this virtual meetup\, visit https://bit.ly/sossaturdaysmar2023 for details and to register. We look forward to seeing you there!\n\n\n\n\n\n\n\n 
URL:https://www.mbcalliance.org/event/sex-menopause-and-breast-cancer/
CATEGORIES:WEBINARS
ATTACH;FMTTYPE=image/png:https://www.mbcalliance.org/wp-content/uploads/Touch4Life.png
ORGANIZER;CN="Touch4Life":MAILTO:lcrandon@touch4life.org
END:VEVENT
BEGIN:VEVENT
DTSTART;TZID=America/New_York:20230225T110000
DTEND;TZID=America/New_York:20230225T123000
DTSTAMP:20260422T101244
CREATED:20230202T175302Z
LAST-MODIFIED:20230202T182441Z
UID:10000716-1677322800-1677328200@www.mbcalliance.org
SUMMARY:#BlackGenesMatter
DESCRIPTION:This month our topic is #BlackGenesMatter. During Black History Month\, we’ll hear from Black researchers and genetic experts about disparities in health outcomes for Black patients. \nOur monthly interactive program is a great opportunity to connect with other women in a safe space where we can be ourselves and find the support we need. You DON’T want to miss it! \nClick HERE to register\, and invite a friend. \n \n 
URL:https://www.mbcalliance.org/event/blackgenesmatter/
LOCATION:WEBINAR
CATEGORIES:WEBINARS
ATTACH;FMTTYPE=image/png:https://www.mbcalliance.org/wp-content/uploads/Touch4Life.png
ORGANIZER;CN="Touch4Life":MAILTO:lcrandon@touch4life.org
END:VEVENT
END:VCALENDAR