BEGIN:VCALENDAR
VERSION:2.0
PRODID:-//Metastatic Breast Cancer Alliance - ECPv6.11.2.1//NONSGML v1.0//EN
CALSCALE:GREGORIAN
METHOD:PUBLISH
X-WR-CALNAME:Metastatic Breast Cancer Alliance
X-ORIGINAL-URL:https://www.mbcalliance.org
X-WR-CALDESC:Events for Metastatic Breast Cancer Alliance
REFRESH-INTERVAL;VALUE=DURATION:PT1H
X-Robots-Tag:noindex
X-PUBLISHED-TTL:PT1H
BEGIN:VTIMEZONE
TZID:America/New_York
BEGIN:DAYLIGHT
TZOFFSETFROM:-0500
TZOFFSETTO:-0400
TZNAME:EDT
DTSTART:20250309T070000
END:DAYLIGHT
BEGIN:STANDARD
TZOFFSETFROM:-0400
TZOFFSETTO:-0500
TZNAME:EST
DTSTART:20251102T060000
END:STANDARD
BEGIN:DAYLIGHT
TZOFFSETFROM:-0500
TZOFFSETTO:-0400
TZNAME:EDT
DTSTART:20260308T070000
END:DAYLIGHT
BEGIN:STANDARD
TZOFFSETFROM:-0400
TZOFFSETTO:-0500
TZNAME:EST
DTSTART:20261101T060000
END:STANDARD
END:VTIMEZONE
BEGIN:VTIMEZONE
TZID:America/Chicago
BEGIN:DAYLIGHT
TZOFFSETFROM:-0600
TZOFFSETTO:-0500
TZNAME:CDT
DTSTART:20240310T080000
END:DAYLIGHT
BEGIN:STANDARD
TZOFFSETFROM:-0500
TZOFFSETTO:-0600
TZNAME:CST
DTSTART:20241103T070000
END:STANDARD
END:VTIMEZONE
BEGIN:VEVENT
DTSTART;VALUE=DATE:20260417
DTEND;VALUE=DATE:20260420
DTSTAMP:20260422T052627
CREATED:20260128T201354Z
LAST-MODIFIED:20260128T212909Z
UID:10001237-1776384000-1776643199@www.mbcalliance.org
SUMMARY:Thriving Together: 2026 Conference on Metastatic Breast Cancer
DESCRIPTION:Living Beyond Breast Cancer’s 2026 Conference on Metastatic Breast Cancer will take place April 17–19\, 2026\, in Philadelphia\, with a livestream option for those who cannot attend in person. \n\n\n\n\n\n\n\n\n\nNow marking its 20th year\, this conference brings together people living with metastatic breast cancer\, caregivers\, and experts from across the country for a weekend centered on real answers\, real stories\, and real help. The program offers up-to-date education\, practical tools\, and opportunities to connect with others who understand the unique realities of life with metastatic breast cancer. \nAs always\, the conference is designed with guidance from people living with metastatic breast cancer to ensure sessions and experiences reflect the needs\, questions\, and priorities of the community. \nKeynote sessions and select breakout sessions will be available via livestream for those who cannot attend in person. \nEXPLORE THE 2026 PROGRAM
URL:https://www.mbcalliance.org/event/thriving-together-2026-conference-on-metastatic-breast-cancer/
LOCATION:Hilton Philadelphia @ Penns Landing\, PHILADELPHIA\, PA
CATEGORIES:CONFERENCES,IN-PERSON EVENTS,LIVE STREAM,VIRTUAL CONFERENCE
ATTACH;FMTTYPE=image/jpeg:https://www.mbcalliance.org/wp-content/uploads/LBBC-Mets-Conference-2026.jpg
END:VEVENT
BEGIN:VEVENT
DTSTART;TZID=America/New_York:20251203T120000
DTEND;TZID=America/New_York:20251203T130000
DTSTAMP:20260422T052627
CREATED:20251110T153758Z
LAST-MODIFIED:20251110T160732Z
UID:10001213-1764763200-1764766800@www.mbcalliance.org
SUMMARY:Patient-Centered Dosing in Metastatic Breast Cancer
DESCRIPTION:Join Living Beyond Breast Cancer for a free Webinar titled Patient-centered dosing in metastatic breast cancer: Improving quality of life and shared decision-making. \nTuesday\, December 3\, 2025 \n9 AM PT / 11 AM CT / 12 PM ET (60 minutes) \nWhat you’ll learn: \n\nHow patient-centered dosing can improve quality of life\nPractical ways to adjust treatment plans while maintaining effective care\nAbout tools in English and Spanish to support shared decision-making\nStrategies for having more open\, meaningful conversations with patients\n\nView/Download the Flyer \nRegister Now
URL:https://www.mbcalliance.org/event/patient-centered-dosing-in-metastatic-breast-cancer/
LOCATION:VIRTUAL
CATEGORIES:WEBINARS
ATTACH;FMTTYPE=image/png:https://www.mbcalliance.org/wp-content/uploads/LBBC.png
END:VEVENT
BEGIN:VEVENT
DTSTART;TZID=America/New_York:20250924T120000
DTEND;TZID=America/New_York:20250924T131500
DTSTAMP:20260422T052627
CREATED:20250910T165642Z
LAST-MODIFIED:20250910T165811Z
UID:10001196-1758715200-1758719700@www.mbcalliance.org
SUMMARY:Effective Treatment & Side Effect Support | Innovations in Breast Cancer Care
DESCRIPTION:Living Beyond Breast Cancer | A free\, four-week webinar series designed to help people with breast cancer — whether facing a new diagnosis\, in treatment\, or living with metastatic disease — get real answers to real challenges. \nJoin leading experts and patient advocates to learn about the latest updates in care so you can speak up for your needs\, manage side effects\, and navigate treatment decisions with confidence. \nWed\, Sep 24\, 2025 12:00 pm to 1:15 pm ET \nWed\, Oct 01\, 2025 12:00 pm to 1:15 pm ET \nWed\, Oct 08\, 2025 12:00 pm to 1:15 pm ET \nWed\, Oct 15\, 2025 12:00 pm to 1:15 pm ET \nLocation: Virtual \nCost: Free \nRegister Now!
URL:https://www.mbcalliance.org/event/effective-treatment-side-effect-support-innovations-in-breast-cancer-care/2025-09-24/
LOCATION:VIRTUAL
CATEGORIES:WEBINARS
ATTACH;FMTTYPE=image/png:https://www.mbcalliance.org/wp-content/uploads/LBBC_Event-Listing_Innov-in-Care_2025_1200x675.png
END:VEVENT
BEGIN:VEVENT
DTSTART;TZID=America/New_York:20251001T120000
DTEND;TZID=America/New_York:20251001T131500
DTSTAMP:20260422T052627
CREATED:20250910T165642Z
LAST-MODIFIED:20250910T165811Z
UID:10001197-1759320000-1759324500@www.mbcalliance.org
SUMMARY:Effective Treatment & Side Effect Support | Innovations in Breast Cancer Care
DESCRIPTION:Living Beyond Breast Cancer | A free\, four-week webinar series designed to help people with breast cancer — whether facing a new diagnosis\, in treatment\, or living with metastatic disease — get real answers to real challenges. \nJoin leading experts and patient advocates to learn about the latest updates in care so you can speak up for your needs\, manage side effects\, and navigate treatment decisions with confidence. \nWed\, Sep 24\, 2025 12:00 pm to 1:15 pm ET \nWed\, Oct 01\, 2025 12:00 pm to 1:15 pm ET \nWed\, Oct 08\, 2025 12:00 pm to 1:15 pm ET \nWed\, Oct 15\, 2025 12:00 pm to 1:15 pm ET \nLocation: Virtual \nCost: Free \nRegister Now!
URL:https://www.mbcalliance.org/event/effective-treatment-side-effect-support-innovations-in-breast-cancer-care/2025-10-01/
LOCATION:VIRTUAL
CATEGORIES:WEBINARS
ATTACH;FMTTYPE=image/png:https://www.mbcalliance.org/wp-content/uploads/LBBC_Event-Listing_Innov-in-Care_2025_1200x675.png
END:VEVENT
BEGIN:VEVENT
DTSTART;TZID=America/New_York:20251008T120000
DTEND;TZID=America/New_York:20251008T131500
DTSTAMP:20260422T052627
CREATED:20250910T165642Z
LAST-MODIFIED:20250910T165811Z
UID:10001198-1759924800-1759929300@www.mbcalliance.org
SUMMARY:Effective Treatment & Side Effect Support | Innovations in Breast Cancer Care
DESCRIPTION:Living Beyond Breast Cancer | A free\, four-week webinar series designed to help people with breast cancer — whether facing a new diagnosis\, in treatment\, or living with metastatic disease — get real answers to real challenges. \nJoin leading experts and patient advocates to learn about the latest updates in care so you can speak up for your needs\, manage side effects\, and navigate treatment decisions with confidence. \nWed\, Sep 24\, 2025 12:00 pm to 1:15 pm ET \nWed\, Oct 01\, 2025 12:00 pm to 1:15 pm ET \nWed\, Oct 08\, 2025 12:00 pm to 1:15 pm ET \nWed\, Oct 15\, 2025 12:00 pm to 1:15 pm ET \nLocation: Virtual \nCost: Free \nRegister Now!
URL:https://www.mbcalliance.org/event/effective-treatment-side-effect-support-innovations-in-breast-cancer-care/2025-10-08/
LOCATION:VIRTUAL
CATEGORIES:WEBINARS
ATTACH;FMTTYPE=image/png:https://www.mbcalliance.org/wp-content/uploads/LBBC_Event-Listing_Innov-in-Care_2025_1200x675.png
END:VEVENT
BEGIN:VEVENT
DTSTART;TZID=America/New_York:20251015T120000
DTEND;TZID=America/New_York:20251015T131500
DTSTAMP:20260422T052627
CREATED:20250910T165642Z
LAST-MODIFIED:20250910T165811Z
UID:10001199-1760529600-1760534100@www.mbcalliance.org
SUMMARY:Effective Treatment & Side Effect Support | Innovations in Breast Cancer Care
DESCRIPTION:Living Beyond Breast Cancer | A free\, four-week webinar series designed to help people with breast cancer — whether facing a new diagnosis\, in treatment\, or living with metastatic disease — get real answers to real challenges. \nJoin leading experts and patient advocates to learn about the latest updates in care so you can speak up for your needs\, manage side effects\, and navigate treatment decisions with confidence. \nWed\, Sep 24\, 2025 12:00 pm to 1:15 pm ET \nWed\, Oct 01\, 2025 12:00 pm to 1:15 pm ET \nWed\, Oct 08\, 2025 12:00 pm to 1:15 pm ET \nWed\, Oct 15\, 2025 12:00 pm to 1:15 pm ET \nLocation: Virtual \nCost: Free \nRegister Now!
URL:https://www.mbcalliance.org/event/effective-treatment-side-effect-support-innovations-in-breast-cancer-care/2025-10-15/
LOCATION:VIRTUAL
CATEGORIES:WEBINARS
ATTACH;FMTTYPE=image/png:https://www.mbcalliance.org/wp-content/uploads/LBBC_Event-Listing_Innov-in-Care_2025_1200x675.png
END:VEVENT
BEGIN:VEVENT
DTSTART;VALUE=DATE:20240419
DTEND;VALUE=DATE:20240422
DTSTAMP:20260422T052627
CREATED:20231213T220534Z
LAST-MODIFIED:20240207T214638Z
UID:10000971-1713484800-1713743999@www.mbcalliance.org
SUMMARY:Thriving Together: 2024 Conference on Metastatic Breast Cancer
DESCRIPTION:The conference on metastatic breast cancer features the latest information on research and treatment options\, as well as sessions that discuss the emotional effects of a diagnosis. There is dedicated time to meet and connect with other attendees via receptions\, meals\, and social events. \nRegistration is now open! Click HERE. \n \n 
URL:https://www.mbcalliance.org/event/san-antonio-breast-cancer-symposium-sabcs-2022-4-2/
LOCATION:Hilton Philadelphia @ Penns Landing\, PHILADELPHIA\, PA
CATEGORIES:CONFERENCES
END:VEVENT
END:VCALENDAR