BEGIN:VCALENDAR
VERSION:2.0
PRODID:-//Metastatic Breast Cancer Alliance - ECPv6.11.2.1//NONSGML v1.0//EN
CALSCALE:GREGORIAN
METHOD:PUBLISH
X-ORIGINAL-URL:https://www.mbcalliance.org
X-WR-CALDESC:Events for Metastatic Breast Cancer Alliance
REFRESH-INTERVAL;VALUE=DURATION:PT1H
X-Robots-Tag:noindex
X-PUBLISHED-TTL:PT1H
BEGIN:VTIMEZONE
TZID:America/New_York
BEGIN:DAYLIGHT
TZOFFSETFROM:-0500
TZOFFSETTO:-0400
TZNAME:EDT
DTSTART:20230312T070000
END:DAYLIGHT
BEGIN:STANDARD
TZOFFSETFROM:-0400
TZOFFSETTO:-0500
TZNAME:EST
DTSTART:20231105T060000
END:STANDARD
END:VTIMEZONE
BEGIN:VEVENT
DTSTART;TZID=America/New_York:20231013T140000
DTEND;TZID=America/New_York:20231013T150000
DTSTAMP:20260421T092531
CREATED:20230919T170213Z
LAST-MODIFIED:20231009T143040Z
UID:10000966-1697205600-1697209200@www.mbcalliance.org
SUMMARY:Research and Health Equity
DESCRIPTION:Join us on Oct. 13 at 2 p.m. EST/1 p.m. CST for an event with Dr. Melissa Bondy\, ShareForCures Chief Scientist\, and Jerome Jourquin\, Komen Sr. Director of Data Science\, focused on how Komen is addressing health equity in research. \nRegister here!
URL:https://www.mbcalliance.org/event/research-and-health-equity/
LOCATION:VIRTUAL
CATEGORIES:WEBINARS
ATTACH;FMTTYPE=image/png:https://www.mbcalliance.org/wp-content/uploads/komen-2.png
END:VEVENT
END:VCALENDAR