BEGIN:VCALENDAR
VERSION:2.0
PRODID:-//Metastatic Breast Cancer Alliance - ECPv6.11.2.1//NONSGML v1.0//EN
CALSCALE:GREGORIAN
METHOD:PUBLISH
X-ORIGINAL-URL:https://www.mbcalliance.org
X-WR-CALDESC:Events for Metastatic Breast Cancer Alliance
REFRESH-INTERVAL;VALUE=DURATION:PT1H
X-Robots-Tag:noindex
X-PUBLISHED-TTL:PT1H
BEGIN:VTIMEZONE
TZID:America/Denver
BEGIN:DAYLIGHT
TZOFFSETFROM:-0700
TZOFFSETTO:-0600
TZNAME:MDT
DTSTART:20230312T090000
END:DAYLIGHT
BEGIN:STANDARD
TZOFFSETFROM:-0600
TZOFFSETTO:-0700
TZNAME:MST
DTSTART:20231105T080000
END:STANDARD
END:VTIMEZONE
BEGIN:VTIMEZONE
TZID:America/New_York
BEGIN:DAYLIGHT
TZOFFSETFROM:-0500
TZOFFSETTO:-0400
TZNAME:EDT
DTSTART:20230312T070000
END:DAYLIGHT
BEGIN:STANDARD
TZOFFSETFROM:-0400
TZOFFSETTO:-0500
TZNAME:EST
DTSTART:20231105T060000
END:STANDARD
END:VTIMEZONE
BEGIN:VEVENT
DTSTART;TZID=America/Denver:20230830T080000
DTEND;TZID=America/Denver:20230901T120000
DTSTAMP:20260421T074607
CREATED:20230120T151849Z
LAST-MODIFIED:20230526T133633Z
UID:10000714-1693382400-1693569600@www.mbcalliance.org
SUMMARY:Metastatic Breast Cancer Research Conference (MBCRC)
DESCRIPTION:The 10th annual Metastatic Breast Cancer Research Conference will take place August 30 – September 1\, 2023. \nThe mission of this research conference is to bring together a diverse audience to create a collaborative research environment with a long term goal of developing curative approaches for metastatic breast cancer. \nThe conference will be a hybrid in-person/virtual format. The in-person portion of the conference will take place in Park City\, Utah. Virtual attendance to conference is free and unlimited (registration required). Virtual participants will be able to interact with each other and speakers via Zoom.
URL:https://www.mbcalliance.org/event/metastatic-breast-cancer-research-conference-mbcrc/
LOCATION:HYBRID
ATTACH;FMTTYPE=image/png:https://www.mbcalliance.org/wp-content/uploads/mbcrc-logo-1.png
END:VEVENT
BEGIN:VEVENT
DTSTART;TZID=America/New_York:20230906T140000
DTEND;TZID=America/New_York:20230906T150000
DTSTAMP:20260421T074607
CREATED:20230802T184114Z
LAST-MODIFIED:20230802T204530Z
UID:10000963-1694008800-1694012400@www.mbcalliance.org
SUMMARY:MBC and Sexual Health
DESCRIPTION:Join us on Sept. 6 at 2 p.m. EDT/1 p.m. CDT to learn more and ask your questions about sexual health while living with MBC from Dr. Don Dizon\, Director of the Pelvic Malignancies Program at Lifespan Cancer Institute. \nRegister here!
URL:https://www.mbcalliance.org/event/mbc-and-sexual-health-2/
LOCATION:VIRTUAL
CATEGORIES:WEBINARS
ATTACH;FMTTYPE=image/png:https://www.mbcalliance.org/wp-content/uploads/komen-1_LOGO_Website-Revamp-1.png
END:VEVENT
BEGIN:VEVENT
DTSTART;TZID=America/New_York:20230907T110000
DTEND;TZID=America/New_York:20230907T160000
DTSTAMP:20260421T074607
CREATED:20230802T183528Z
LAST-MODIFIED:20230802T203806Z
UID:10000962-1694084400-1694102400@www.mbcalliance.org
SUMMARY:Komen’s Annual Navigation Nation Summit
DESCRIPTION:As an extension of their Patient Navigation Training Program\, Susan G. Komen is proud to host its 2nd annual Navigation Nation Summit Thursday September 7th from 11a-4pET/10a-3pCT. The summit will explore the intersection of health equity and patient navigation and discuss strategies and resources to address barriers contributing to health inequities. Please register here today!
URL:https://www.mbcalliance.org/event/komens-annual-navigation-nation-summit/
LOCATION:VIRTUAL
CATEGORIES:VIRTUAL CONFERENCE
ATTACH;FMTTYPE=image/png:https://www.mbcalliance.org/wp-content/uploads/komen-1_LOGO_Website-Revamp-1.png
END:VEVENT
BEGIN:VEVENT
DTSTART;TZID=America/New_York:20230911T140000
DTEND;TZID=America/New_York:20230911T150000
DTSTAMP:20260421T074607
CREATED:20230802T184326Z
LAST-MODIFIED:20230802T204829Z
UID:10000964-1694440800-1694444400@www.mbcalliance.org
SUMMARY:Ask Your Questions: End-of-Life Planning for MBC
DESCRIPTION:Join us on Sept. 11 at 2 p.m. EDT/1 p.m. CDT for a difficult but necessary topic. We will have presentations from estate planning attorney Tzviah Mayman\, Esq.\, and Shelly Rosenfeld\, Esq.\, Cancer Legal Resource Center Director\, followed by answering your questions live. \nRegister here!
URL:https://www.mbcalliance.org/event/ask-your-questions-end-of-life-planning-for-mbc/
LOCATION:VIRTUAL
CATEGORIES:WEBINARS
ATTACH;FMTTYPE=image/png:https://www.mbcalliance.org/wp-content/uploads/komen-1_LOGO_Website-Revamp-1.png
END:VEVENT
BEGIN:VEVENT
DTSTART;VALUE=DATE:20230928
DTEND;VALUE=DATE:20231001
DTSTAMP:20260421T074607
CREATED:20230224T125446Z
LAST-MODIFIED:20230706T173824Z
UID:10000946-1695859200-1696118399@www.mbcalliance.org
SUMMARY:International Invasive Lobular Breast Cancer (ILC) Symposium 2023
DESCRIPTION:Registration for the Symposium is now open!\nClick HERE to learn more and register. \n#ILCSYMPOSIUM
URL:https://www.mbcalliance.org/event/international-invasive-lobular-breast-cancer-ilc-symposium-2023/
LOCATION:The Assembly\, 5051 Centre Avenue\, Pittsburgh\, PA\, 15213\, United States
CATEGORIES:CONFERENCES
ATTACH;FMTTYPE=image/png:https://www.mbcalliance.org/wp-content/uploads/LBCA-LATEST-Side.png
END:VEVENT
END:VCALENDAR