BEGIN:VCALENDAR
VERSION:2.0
PRODID:-//Metastatic Breast Cancer Alliance - ECPv6.11.2.1//NONSGML v1.0//EN
CALSCALE:GREGORIAN
METHOD:PUBLISH
X-ORIGINAL-URL:https://www.mbcalliance.org
X-WR-CALDESC:Events for Metastatic Breast Cancer Alliance
REFRESH-INTERVAL;VALUE=DURATION:PT1H
X-Robots-Tag:noindex
X-PUBLISHED-TTL:PT1H
BEGIN:VTIMEZONE
TZID:America/New_York
BEGIN:DAYLIGHT
TZOFFSETFROM:-0500
TZOFFSETTO:-0400
TZNAME:EDT
DTSTART:20300310T070000
END:DAYLIGHT
BEGIN:STANDARD
TZOFFSETFROM:-0400
TZOFFSETTO:-0500
TZNAME:EST
DTSTART:20301103T060000
END:STANDARD
END:VTIMEZONE
BEGIN:VEVENT
DTSTART;TZID=America/New_York:20300701T203000
DTEND;TZID=America/New_York:20300701T220000
DTSTAMP:20260421T062941
CREATED:20250902T174456Z
LAST-MODIFIED:20250919T195858Z
UID:10001185-1909168200-1909173600@www.mbcalliance.org
SUMMARY:YSC Virtual Hangout for Metastatic Thrivers
DESCRIPTION:YSC’s Virtual Hangout is a space to connect with others living with metastatic breast cancer. Ask questions\, share articles and talk with others who just get it. This group is only open to those who are managing stage IV breast cancer. The group meets by Zoom and is facilitated by Krista Nelson\, a licensed clinical social worker. \nMeets first Monday of the month at 8:30PM ET | 7:30PM CT | 5:30PM PT
URL:https://www.mbcalliance.org/event/ysc-virtual-hangout-for-metastatic-thrivers/2030-07-01/
LOCATION:VIRTUAL
CATEGORIES:ZOOM SUPPORT GROUPS
ATTACH;FMTTYPE=image/jpeg:https://www.mbcalliance.org/wp-content/uploads/YSC-MBC-virtual-hangout.jpg
END:VEVENT
BEGIN:VEVENT
DTSTART;TZID=America/New_York:20300805T203000
DTEND;TZID=America/New_York:20300805T220000
DTSTAMP:20260421T062941
CREATED:20250902T174456Z
LAST-MODIFIED:20250919T195858Z
UID:10001186-1912192200-1912197600@www.mbcalliance.org
SUMMARY:YSC Virtual Hangout for Metastatic Thrivers
DESCRIPTION:YSC’s Virtual Hangout is a space to connect with others living with metastatic breast cancer. Ask questions\, share articles and talk with others who just get it. This group is only open to those who are managing stage IV breast cancer. The group meets by Zoom and is facilitated by Krista Nelson\, a licensed clinical social worker. \nMeets first Monday of the month at 8:30PM ET | 7:30PM CT | 5:30PM PT
URL:https://www.mbcalliance.org/event/ysc-virtual-hangout-for-metastatic-thrivers/2030-08-05/
LOCATION:VIRTUAL
CATEGORIES:ZOOM SUPPORT GROUPS
ATTACH;FMTTYPE=image/jpeg:https://www.mbcalliance.org/wp-content/uploads/YSC-MBC-virtual-hangout.jpg
END:VEVENT
BEGIN:VEVENT
DTSTART;TZID=America/New_York:20300902T203000
DTEND;TZID=America/New_York:20300902T220000
DTSTAMP:20260421T062941
CREATED:20250902T174456Z
LAST-MODIFIED:20250919T195858Z
UID:10001187-1914611400-1914616800@www.mbcalliance.org
SUMMARY:YSC Virtual Hangout for Metastatic Thrivers
DESCRIPTION:YSC’s Virtual Hangout is a space to connect with others living with metastatic breast cancer. Ask questions\, share articles and talk with others who just get it. This group is only open to those who are managing stage IV breast cancer. The group meets by Zoom and is facilitated by Krista Nelson\, a licensed clinical social worker. \nMeets first Monday of the month at 8:30PM ET | 7:30PM CT | 5:30PM PT
URL:https://www.mbcalliance.org/event/ysc-virtual-hangout-for-metastatic-thrivers/2030-09-02/
LOCATION:VIRTUAL
CATEGORIES:ZOOM SUPPORT GROUPS
ATTACH;FMTTYPE=image/jpeg:https://www.mbcalliance.org/wp-content/uploads/YSC-MBC-virtual-hangout.jpg
END:VEVENT
END:VCALENDAR