BEGIN:VCALENDAR
VERSION:2.0
PRODID:-//Metastatic Breast Cancer Alliance - ECPv6.11.2.1//NONSGML v1.0//EN
CALSCALE:GREGORIAN
METHOD:PUBLISH
X-ORIGINAL-URL:https://www.mbcalliance.org
X-WR-CALDESC:Events for Metastatic Breast Cancer Alliance
REFRESH-INTERVAL;VALUE=DURATION:PT1H
X-Robots-Tag:noindex
X-PUBLISHED-TTL:PT1H
BEGIN:VTIMEZONE
TZID:America/New_York
BEGIN:DAYLIGHT
TZOFFSETFROM:-0500
TZOFFSETTO:-0400
TZNAME:EDT
DTSTART:20260308T070000
END:DAYLIGHT
BEGIN:STANDARD
TZOFFSETFROM:-0400
TZOFFSETTO:-0500
TZNAME:EST
DTSTART:20261101T060000
END:STANDARD
END:VTIMEZONE
BEGIN:VEVENT
DTSTART;TZID=America/New_York:20260204T160000
DTEND;TZID=America/New_York:20260204T173000
DTSTAMP:20260425T064301
CREATED:20260129T173414Z
LAST-MODIFIED:20260129T173748Z
UID:10001240-1770220800-1770226200@www.mbcalliance.org
SUMMARY:Theresa's Research Presents Updates on Research & Clinical Advances in MBC
DESCRIPTION:Join Theresa’s Research for a special World Cancer Day webinar focused on the latest breakthroughs in MBC. This session features expert insights from Suzanne Fuqua\, PhD (Baylor College of Medicine) and Bora Lim\, MD (MD Anderson Cancer Center) as they discuss current research updates and clinical advances. \nWhen: February 4\, 2026 | 3:00 PM CT Hosted by: Theresa’s Research \nREGISTER NOW
URL:https://www.mbcalliance.org/event/theresas-research-presents-updates-on-research-clinical-advances-in-mbc/
LOCATION:VIRTUAL
CATEGORIES:LIVE STREAM,WEBINARS
ATTACH;FMTTYPE=image/png:https://www.mbcalliance.org/wp-content/uploads/Theresas-Research-World-Cancer-Day-Webinar.png
END:VEVENT
END:VCALENDAR