BEGIN:VCALENDAR
VERSION:2.0
PRODID:-//Metastatic Breast Cancer Alliance - ECPv6.11.2.1//NONSGML v1.0//EN
CALSCALE:GREGORIAN
METHOD:PUBLISH
X-ORIGINAL-URL:https://www.mbcalliance.org
X-WR-CALDESC:Events for Metastatic Breast Cancer Alliance
REFRESH-INTERVAL;VALUE=DURATION:PT1H
X-Robots-Tag:noindex
X-PUBLISHED-TTL:PT1H
BEGIN:VTIMEZONE
TZID:America/New_York
BEGIN:DAYLIGHT
TZOFFSETFROM:-0500
TZOFFSETTO:-0400
TZNAME:EDT
DTSTART:20260308T070000
END:DAYLIGHT
BEGIN:STANDARD
TZOFFSETFROM:-0400
TZOFFSETTO:-0500
TZNAME:EST
DTSTART:20261101T060000
END:STANDARD
END:VTIMEZONE
BEGIN:VEVENT
DTSTART;VALUE=DATE:20260514
DTEND;VALUE=DATE:20260518
DTSTAMP:20260420T051331
CREATED:20260128T212629Z
LAST-MODIFIED:20260204T155905Z
UID:10001238-1778716800-1779062399@www.mbcalliance.org
SUMMARY:For The Breast Of Us | Breast Cancer BaddieCon
DESCRIPTION:Breast Cancer BaddieCon is the ultimate celebration of strength\, resilience\, and sisterhood\, specifically curated for women of color who have been impacted by breast cancer. This dynamic event brings together survivors\, thrivers\, and advocates in a vibrant\, empowering environment where stories are shared\, connections are made\, and voices are amplified. With a unique blend of informative sessions\, cultural celebrations\, and community-building activities\, BaddieCon is more than just a conference—it’s a movement to redefine survivorship and empower every attendee to live boldly and beautifully. Join us as we honor the journey and celebrate the beauty of survivorship\, reimagined. \nRegistration Opens February 1! Visit Breast Cancer BaddieCon
URL:https://www.mbcalliance.org/event/breast-cancer-baddiecon/
CATEGORIES:CONFERENCES,IN-PERSON EVENTS
ATTACH;FMTTYPE=image/png:https://www.mbcalliance.org/wp-content/uploads/BaddieCon.png
ORGANIZER;CN="For The Breast Of Us":MAILTO:hello@breastofus.com
END:VEVENT
END:VCALENDAR