BEGIN:VCALENDAR
VERSION:2.0
PRODID:-//Metastatic Breast Cancer Alliance - ECPv6.11.2.1//NONSGML v1.0//EN
CALSCALE:GREGORIAN
METHOD:PUBLISH
X-WR-CALNAME:Metastatic Breast Cancer Alliance
X-ORIGINAL-URL:https://www.mbcalliance.org
X-WR-CALDESC:Events for Metastatic Breast Cancer Alliance
REFRESH-INTERVAL;VALUE=DURATION:PT1H
X-Robots-Tag:noindex
X-PUBLISHED-TTL:PT1H
BEGIN:VTIMEZONE
TZID:America/New_York
BEGIN:DAYLIGHT
TZOFFSETFROM:-0500
TZOFFSETTO:-0400
TZNAME:EDT
DTSTART:20250309T070000
END:DAYLIGHT
BEGIN:STANDARD
TZOFFSETFROM:-0400
TZOFFSETTO:-0500
TZNAME:EST
DTSTART:20251102T060000
END:STANDARD
END:VTIMEZONE
BEGIN:VEVENT
DTSTART;TZID=America/New_York:20251013T200000
DTEND;TZID=America/New_York:20251013T210000
DTSTAMP:20260421T082235
CREATED:20251008T141938Z
LAST-MODIFIED:20251008T141938Z
UID:10001206-1760385600-1760389200@www.mbcalliance.org
SUMMARY:#LightUpMBC Live
DESCRIPTION:Every year on October 13th\, landmarks in hundreds of cities around the globe take part in #LightUpMBC\, the world’s largest visual awareness campaign for metastatic breast cancer. Be part of the action by watching the #LightUpMBC Life event\, which raises money for MBC research through our nonprofit member METAvivor. Tune in to the virtual livestream on Monday\, October 13th\, at 8:00 PM ET. \nREAD MORE HERE
URL:https://www.mbcalliance.org/event/lightupmbc-live/
LOCATION:VIRTUAL
CATEGORIES:FACEBOOK LIVE,LIVE STREAM
ATTACH;FMTTYPE=image/png:https://www.mbcalliance.org/wp-content/uploads/Light-Up-MBC-Bridge.png
END:VEVENT
BEGIN:VEVENT
DTSTART;TZID=America/New_York:20251025T090000
DTEND;TZID=America/New_York:20251025T120000
DTSTAMP:20260421T082235
CREATED:20250828T144227Z
LAST-MODIFIED:20250910T214422Z
UID:10001124-1761382800-1761393600@www.mbcalliance.org
SUMMARY:Infinite Strength: Financial Toxicity Workshop
DESCRIPTION:Join us as we confront the important topic of Financial Toxicity and Breast Cancer.\nUPDATE: DATE CHANGED TO SATURDAY\, OCTOBER 25 \nThis in-person event will take place at The Study at Yale- 1157 Chapel St\, New Haven\, CT 06511. \nThis event is FREE to attend. Caregivers\, family and friends are all welcome\, but each person attending must register individually. \nWhat to expect at this event: \n\nEducational Presentations by medical professionals\, resource ambassadors and fellow patient advocates.\nOnsite Resources / Vendors\nA $100 Visa gift card for all breast cancer patients who attend\nAn opportunity to build community with peers\nFree Breakfast & Coffee
URL:https://www.mbcalliance.org/event/infinite-strength-financial-toxicity-workshop/
LOCATION:The Study At Yale\, 1157 Chapel St\, New Haven\, CT\, 06211\, United States
CATEGORIES:IN-PERSON EVENTS
ATTACH;FMTTYPE=image/png:https://www.mbcalliance.org/wp-content/uploads/Infinite-Strength-Financial-Toxicity-simple.png
ORGANIZER;CN="Infinite Strength":MAILTO:roberta@infinitestrength.org
END:VEVENT
END:VCALENDAR